BEGIN:VCALENDAR
VERSION:2.0
PRODID:-//Lake City FL - ECPv6.15.18//NONSGML v1.0//EN
CALSCALE:GREGORIAN
METHOD:PUBLISH
X-ORIGINAL-URL:https://lakecityfl.com
X-WR-CALDESC:Events for Lake City FL
REFRESH-INTERVAL;VALUE=DURATION:PT1H
X-Robots-Tag:noindex
X-PUBLISHED-TTL:PT1H
BEGIN:VTIMEZONE
TZID:America/New_York
BEGIN:DAYLIGHT
TZOFFSETFROM:-0500
TZOFFSETTO:-0400
TZNAME:EDT
DTSTART:20250309T070000
END:DAYLIGHT
BEGIN:STANDARD
TZOFFSETFROM:-0400
TZOFFSETTO:-0500
TZNAME:EST
DTSTART:20251102T060000
END:STANDARD
BEGIN:DAYLIGHT
TZOFFSETFROM:-0500
TZOFFSETTO:-0400
TZNAME:EDT
DTSTART:20260308T070000
END:DAYLIGHT
BEGIN:STANDARD
TZOFFSETFROM:-0400
TZOFFSETTO:-0500
TZNAME:EST
DTSTART:20261101T060000
END:STANDARD
BEGIN:DAYLIGHT
TZOFFSETFROM:-0500
TZOFFSETTO:-0400
TZNAME:EDT
DTSTART:20270314T070000
END:DAYLIGHT
BEGIN:STANDARD
TZOFFSETFROM:-0400
TZOFFSETTO:-0500
TZNAME:EST
DTSTART:20271107T060000
END:STANDARD
END:VTIMEZONE
BEGIN:VEVENT
DTSTART;TZID=America/New_York:20260224T110000
DTEND;TZID=America/New_York:20260224T120000
DTSTAMP:20260423T083136
CREATED:20260129T215240Z
LAST-MODIFIED:20260129T215240Z
UID:10013726-1771930800-1771934400@lakecityfl.com
SUMMARY:250th Celebration of America
DESCRIPTION:Join the City of Lake City and Columbia County as we proudly take part in the nationwide America250 commemoration\, marking 250 years of American independence.\nThis special gathering at Olustee Park will honor our nation’s history\, recognize the values that unite us\, and celebrate the enduring spirit of America. Community members are invited to come together in reflection\, pride\, and unity as we acknowledge this historic milestone.\n Location: Olustee Park Date: Tuesday\, February 24 Time: 11:00 AM\n All are welcome!This event is open to the public and is a meaningful opportunity to celebrate America’s past\, present\, and future—right here in Lake City.
URL:https://lakecityfl.com/event/250th-celebration-of-america/
LOCATION:Olustee Park – Downtown Lake City\, 169 N Marion Ave\, Lake City\, FL\, 32055\, United States
ATTACH;FMTTYPE=image/jpeg:https://lakecityfl.com/wp-content/uploads/2026/01/621171076_1290293616464463_3023588958198346098_n.jpg
END:VEVENT
END:VCALENDAR